BEGIN:VCALENDAR
VERSION:2.0
BEGIN:VEVENT
URL:https://greek-chat.gr/social/viewevent.html?eventid=4 
DTSTART:20120512T000000
DTEND:20120512T235959
SUMMARY:Εκδήλωση greek-chat!!! - 12/05/2012
DESCRIPTION:Το Greek-chat διοργανώνει  συνάντηση το Σάββατο 12/5/2012 

Για περισσότερες πληροφορίες και εκδήλωση ενδιαφέροντος στα prive  των vales-rigas, mitsakos28, demoulous.
LOCATION:Athens
END:VEVENT
END:VCALENDAR